BEGIN:VCALENDAR
VERSION:2.0
PRODID:-//ChamberMaster//Event Calendar 2.0//EN
METHOD:PUBLISH
X-PUBLISHED-TTL:P3D
REFRESH-INTERVAL:P3D
CALSCALE:GREGORIAN
BEGIN:VEVENT
DTSTART:20100731T050000Z
DTEND:20100731T050000Z
X-MICROSOFT-CDO-ALLDAYEVENT:FALSE
SUMMARY:Holiday Craft Fair in July
DESCRIPTION:Make Holiday shopping less stressful this year by starting in July. Visit Alden Courts of Waterfordfor unique gifts\, crafts\, jewelry\, and more. Enjoy free refreshments and raffle prizes.
X-ALT-DESC;FMTTYPE=text/html:Make Holiday shopping less stressful this year by starting in July. Visit Alden Courts of Waterfordfor unique gifts\, crafts\, jewelry\, and more. Enjoy free refreshments and raffle prizes.
LOCATION:Alden Courts of Waterford
UID:e.1902.8
SEQUENCE:3
DTSTAMP:20260420T093544Z
URL:https://business.bataviachamber.org/events/details/holiday-craft-fair-in-july-07-31-2010-8
END:VEVENT

END:VCALENDAR
