BEGIN:VCALENDAR
VERSION:2.0
PRODID:-//ChamberMaster//Event Calendar 2.0//EN
METHOD:PUBLISH
X-PUBLISHED-TTL:P3D
REFRESH-INTERVAL:P3D
CALSCALE:GREGORIAN
BEGIN:VEVENT
DTSTART:20090926T050000Z
DTEND:20090926T050000Z
X-MICROSOFT-CDO-ALLDAYEVENT:FALSE
SUMMARY:Hike For Hospice
DESCRIPTION:Family friendly fundraising event. Proceeds from Hike for Hospice enable FVVH to provide hospice andbereavement care to the community free of charge.  As a volunteer hospice\, we do not receive federal or state funds\, allowing FVVH to care for patients who do not qualify for Medicare hospice treatment. Your support enables us to assist families in their time of need.
X-ALT-DESC;FMTTYPE=text/html:Family friendly fundraising event. Proceeds from Hike for Hospice enable FVVH to provide hospice andbereavement care to the community free of charge.  As a volunteer hospice\, we do not receive federal or state funds\, allowing FVVH to care for patients who do not qualify for Medicare hospice treatment. Your support enables us to assist families in their time of need.
LOCATION:Peg Bond Center
UID:e.1902.980
SEQUENCE:3
DTSTAMP:20260421T025648Z
URL:https://business.bataviachamber.org/events/details/hike-for-hospice-09-26-2009-980
END:VEVENT

END:VCALENDAR
