BEGIN:VCALENDAR
VERSION:2.0
PRODID:-//ChamberMaster//Event Calendar 2.0//EN
METHOD:PUBLISH
X-PUBLISHED-TTL:P3D
REFRESH-INTERVAL:P3D
CALSCALE:GREGORIAN
BEGIN:VEVENT
DTSTART:20201108T010000Z
DTEND:20201108T040000Z
X-MICROSOFT-CDO-ALLDAYEVENT:FALSE
SUMMARY:Highfalutin Art Trivia Night
DESCRIPTION:Highfalutin Art Trivia Night \n\n \n\nThink you're so smart? Do you know your Impressionism from your Expressionism? Is it Manet or Monet? Which painting is possibly the most valuable stolen object in the world? \n\n \n\nTest your knowledge of art\, artists\, and art history at our first ever art trivia night. Compete in teams of four to win swag and impress your friends and neighbors with your cultural sophistication!  \n\n \n\nHosted by Water Street Studios very own Director of Education\, certified art genius\, and famed improv performer\, Doug Grier\, this is sure to be a fun night to remember. \n\n \n\nFeaturing a complimentary beverage and fancy hors d'oeuvres. Cash bar will also be open.\n\n  \n\nPurchase raffle tickets for a chance to win original art created during the evening by our resident artists ($20 each).  \n\n\n\nWe follow social distancing guidelines and require all participants to wear masks when not seated.   \n\n \n\nSaturday\, Nov. 7\, 2020 \n\n7   10 p.m. \n\n$37.50 per person/$150 table
X-ALT-DESC;FMTTYPE=text/html:<span style="font-family:times new roman">Highfalutin Art Trivia Night&nbsp\;<br />\n&nbsp\;<br />\nThink you&rsquo\;re so smart? Do you know your Impressionism from your Expressionism? Is it Manet or Monet? Which painting is possibly the most valuable&nbsp\;stolen object in the world?&nbsp\;<br />\n&nbsp\;<br />\nTest your knowledge of art\, artists\, and art history at our first ever art trivia night. Compete in teams of four to win swag and impress your friends and neighbors with your cultural sophistication!&nbsp\;&nbsp\;<br />\n&nbsp\;<br />\nHosted by Water Street Studios very own Director of Education\, certified art&nbsp\;genius\, and famed improv performer\, Doug Grier\, this is sure to be a fun night to remember.&nbsp\;<br />\n&nbsp\;<br />\nFeaturing&nbsp\;a&nbsp\;complimentary&nbsp\;beverage and fancy&nbsp\;hors d&#39\;oeuvres.&nbsp\;Cash bar will also be open.<br />\n&nbsp\;&nbsp\;<br />\nPurchase raffle tickets for a chance to win original art created during the&nbsp\;evening&nbsp\;by our resident artists&nbsp\;($20 each).&nbsp\;&nbsp\;<br />\n<br />\nWe follow social distancing guidelines and require all participants to wear masks&nbsp\;when not seated.&nbsp\;&nbsp\;&nbsp\;<br />\n&nbsp\;<br />\nSaturday\, Nov. 7\, 2020&nbsp\;<br />\n7 &ndash\; 10 p.m.&nbsp\;<br />\n$37.50 per person/$150 table&nbsp\;</span>
LOCATION:160 S. Water Street Batavia\, IL 60510
UID:e.1902.12382
SEQUENCE:3
DTSTAMP:20260422T080936Z
URL:https://business.bataviachamber.org/events/details/highfalutin-art-trivia-night-12382
END:VEVENT

END:VCALENDAR
