BEGIN:VCALENDAR
VERSION:2.0
PRODID:-//ChamberMaster//Event Calendar 2.0//EN
METHOD:PUBLISH
X-PUBLISHED-TTL:P3D
REFRESH-INTERVAL:P3D
CALSCALE:GREGORIAN
BEGIN:VEVENT
DTSTART:20251129T010000Z
DTEND:20251130T050000Z
X-MICROSOFT-CDO-ALLDAYEVENT:FALSE
SUMMARY:Helen Hong Stand Up Comedy
DESCRIPTION:Award-winning comedian & NPR's Wait Wait Don't Tell Me favorite Helen Hong returns to The Comedy Vault in Batavia\, IL\, for 4 shows Nov 28 29\, 2025.\n\nA fan favorite on the hit NPR podcast Wait Wait Don't Tell Me\, Helen Hong also hosts the celebrity trivia podcast Go Fact Yourself. Helen's comedy special WELL HONG was co-produced by Comedy Dynamics and Tribeca Film Festival\, and is streaming now on Amazon Prime & Apple TV. Audiences love Helen's lightning quick crowd work\, which can be seen on her TikTok and Instagram accounts @funnyhelenhong.\n\nHelen's acting credits include scene-stealing roles on Never Have I Ever\, Silicon Valley\, The Unicorn\, and 5 seasons of The Thundermans on Nickelodeon. Her commercial credits include a memorable Geico ad co-starring Animal the Muppet. Helen brings light to Asian-American issues with her family's YouTube channel "Old Korean Dad Stories." She lives in Los Angeles with her sister\, her Snephew\, and her old-ass dog Dodger.
X-ALT-DESC;FMTTYPE=text/html:<p>Award-winning comedian &amp\; NPR&rsquo\;s Wait Wait Don&rsquo\;t Tell Me favorite Helen Hong returns to The Comedy Vault in Batavia\, IL\, for 4 shows Nov 28&ndash\;29\, 2025.</p>\n\n<p>A fan favorite on the hit NPR podcast&nbsp\;<em>Wait Wait Don&rsquo\;t Tell Me</em>\,&nbsp\;<strong>Helen Hong</strong>&nbsp\;also hosts the celebrity trivia podcast&nbsp\;<em>Go Fact Yourself</em>. Helen&rsquo\;s comedy special WELL HONG was co-produced by Comedy Dynamics and Tribeca Film Festival\, and is streaming now on Amazon Prime &amp\; Apple TV. Audiences love Helen&rsquo\;s lightning quick crowd work\, which can be seen on her TikTok and Instagram accounts @funnyhelenhong.</p>\n\n<p>Helen&rsquo\;s acting credits include scene-stealing roles on&nbsp\;<em>Never Have I Ever</em>\,&nbsp\;<em>Silicon Valley</em>\,&nbsp\;<em>The Unicorn</em>\, and 5 seasons of&nbsp\;<em>The Thundermans&nbsp\;</em>on Nickelodeon. Her commercial credits include a memorable Geico ad co-starring Animal the Muppet. Helen brings light to Asian-American issues with her family&rsquo\;s YouTube channel &ldquo\;Old Korean Dad Stories.&rdquo\; She lives in Los Angeles with her sister\, her Snephew\, and her old-ass dog Dodger.</p>\n
LOCATION:The Comedy Vault
UID:e.1902.29747
SEQUENCE:3
DTSTAMP:20260425T031855Z
URL:https://business.bataviachamber.org/events/details/helen-hong-stand-up-comedy-29747
END:VEVENT

END:VCALENDAR
