BEGIN:VCALENDAR
VERSION:2.0
PRODID:-//ChamberMaster//Event Calendar 2.0//EN
METHOD:PUBLISH
X-PUBLISHED-TTL:P3D
REFRESH-INTERVAL:P3D
CALSCALE:GREGORIAN
BEGIN:VEVENT
DTSTART:20110205T060000Z
DTEND:20110205T060000Z
X-MICROSOFT-CDO-ALLDAYEVENT:FALSE
SUMMARY:Hearts Support Housing
DESCRIPTION:Step out of the cold and drop in at the Moose Lodge for a pasta bar and games of hearts\, euchre andcribbage.  Tickets are $20 and sold at the door with cash or check made payable to Lazarus House.  (Sorry\, no credit cards.)  Proceeds benefit Lazarus House\, a charitable organization serving personswho are homeless or at risk of homelessness and connected to Batavia\, St. Charles\, Geneva or westernrural Kane County.
X-ALT-DESC;FMTTYPE=text/html:Step out of the cold and drop in at the Moose Lodge for a pasta bar and games of hearts\, euchre andcribbage.  Tickets are $20 and sold at the door with cash or check made payable to Lazarus House.  (Sorry\, no credit cards.)  Proceeds benefit Lazarus House\, a charitable organization serving personswho are homeless or at risk of homelessness and connected to Batavia\, St. Charles\, Geneva or westernrural Kane County.
LOCATION:St. Charles Moose Lodge
UID:e.1902.110
SEQUENCE:3
DTSTAMP:20260419T211847Z
URL:https://business.bataviachamber.org/events/details/hearts-support-housing-02-05-2011-110
END:VEVENT

END:VCALENDAR
