BEGIN:VCALENDAR
VERSION:2.0
PRODID:-//ChamberMaster//Event Calendar 2.0//EN
METHOD:PUBLISH
X-PUBLISHED-TTL:P3D
REFRESH-INTERVAL:P3D
CALSCALE:GREGORIAN
BEGIN:VEVENT
DTSTART:20170125T003000Z
DTEND:20170125T013000Z
X-MICROSOFT-CDO-ALLDAYEVENT:FALSE
SUMMARY:Health Workshop: 3 Secrets to Your Best Year Yet!
DESCRIPTION:FREE HEALTH WORKSHOP:\n\n3 Secrets to Your Best Year Yet!\n\n\n\nJoin us for this all new workshop and learn about the tools needed to make 2017 the best year yet!\n\nTopics will include:\n\n\n	Detox/Nutrition Fundamentals\n	Burst Training Made Easy: Burn Fat in No Time Flat\n	Set a Goal You're Virtually Guaranteed to Achieve
X-ALT-DESC;FMTTYPE=text/html:<p><strong>FREE HEALTH WORKSHOP:<br />\n3 Secrets to Your Best Year Yet!</strong><br />\n<br />\nJoin us for this all new workshop and learn about the tools needed to make 2017 the best year yet!</p>\n\n<p><strong>Topics will include:</strong></p>\n\n<ul>\n	<li>Detox/Nutrition Fundamentals</li>\n	<li>Burst Training Made Easy: Burn Fat in No Time Flat</li>\n	<li>Set a Goal You&#39\;re Virtually Guaranteed to Achieve</li>\n</ul>\n
LOCATION:The Chiropractic People 1881 S Randall Rd Ste C Geneva\, IL
UID:e.1902.6538
SEQUENCE:3
DTSTAMP:20260425T163518Z
URL:https://business.bataviachamber.org/events/details/health-workshop-3-secrets-to-your-best-year-yet-6538
END:VEVENT

END:VCALENDAR
