BEGIN:VCALENDAR
VERSION:2.0
PRODID:-//ChamberMaster//Event Calendar 2.0//EN
METHOD:PUBLISH
X-PUBLISHED-TTL:P3D
REFRESH-INTERVAL:P3D
CALSCALE:GREGORIAN
BEGIN:VEVENT
DTSTART:20101024T050000Z
DTEND:20101024T050000Z
X-MICROSOFT-CDO-ALLDAYEVENT:FALSE
SUMMARY:Health Fair
DESCRIPTION:Health Fair offering screenings\, information\, flu shots\, and support.
X-ALT-DESC;FMTTYPE=text/html:Health Fair offering screenings\, information\, flu shots\, and support.
LOCATION:Immanuel Lutheran Church & School
UID:e.1902.73
SEQUENCE:3
DTSTAMP:20260420T041653Z
URL:https://business.bataviachamber.org/events/details/health-fair-10-24-2010-73
END:VEVENT

END:VCALENDAR
