BEGIN:VCALENDAR
VERSION:2.0
PRODID:-//ChamberMaster//Event Calendar 2.0//EN
METHOD:PUBLISH
X-PUBLISHED-TTL:P3D
REFRESH-INTERVAL:P3D
CALSCALE:GREGORIAN
BEGIN:VEVENT
DTSTART:20110207T060000Z
DTEND:20110214T060000Z
X-MICROSOFT-CDO-ALLDAYEVENT:FALSE
SUMMARY:''Have-a-Heart''
DESCRIPTION:Dr. Nathan Conroy will provide FREE exams including computerized nerve testing and any necessary xrays with your donation of any amount to Oklahaven Children's Chiropractic Center
X-ALT-DESC;FMTTYPE=text/html:Dr. Nathan Conroy will provide FREE exams including computerized nerve testing and any necessary xrays with your donation of any amount to Oklahaven Children's Chiropractic Center
LOCATION:The Chiropractic People
UID:e.1902.144
SEQUENCE:3
DTSTAMP:20260419T224056Z
URL:https://business.bataviachamber.org/events/details/have-a-heart-02-07-2011-144
END:VEVENT

END:VCALENDAR
