BEGIN:VCALENDAR
VERSION:2.0
PRODID:-//ChamberMaster//Event Calendar 2.0//EN
METHOD:PUBLISH
X-PUBLISHED-TTL:P3D
REFRESH-INTERVAL:P3D
CALSCALE:GREGORIAN
BEGIN:VEVENT
DTSTART:20101029T050000Z
DTEND:20101030T050000Z
X-MICROSOFT-CDO-ALLDAYEVENT:FALSE
SUMMARY:Haunted Quarry
DESCRIPTION:Was that just the wind or is someone (or something) sneaking up behind you? Swimming season has ended but that doesn't mean all is quiet at the Quarry. Face your fears and experience the thrills thatawait you at the first-ever Haunted Quarry!
X-ALT-DESC;FMTTYPE=text/html:Was that just the wind or is someone (or something) sneaking up behind you? Swimming season has ended but that doesn't mean all is quiet at the Quarry. Face your fears and experience the thrills thatawait you at the first-ever Haunted Quarry!
LOCATION:Hall Quarry Beach
UID:e.1902.81
SEQUENCE:3
DTSTAMP:20260420T041509Z
URL:https://business.bataviachamber.org/events/details/haunted-quarry-10-29-2010-81
END:VEVENT

END:VCALENDAR
