BEGIN:VCALENDAR
VERSION:2.0
PRODID:-//ChamberMaster//Event Calendar 2.0//EN
METHOD:PUBLISH
X-PUBLISHED-TTL:P3D
REFRESH-INTERVAL:P3D
CALSCALE:GREGORIAN
BEGIN:VEVENT
DTSTART:20091028T220000Z
DTEND:20091029T000000Z
X-MICROSOFT-CDO-ALLDAYEVENT:FALSE
SUMMARY:Harvest Celebration at the Old Post Office
DESCRIPTION:Once again\, join us for the premier Business After Hours for the Batavia Chamber. Jon Baermann\, Masus Financial Group and Aliquot Capital LLC will join the Chamber in co-creating an evening of great food\, sumptuous wine from Gibby's Wine Den and a chance to make many new friends and renew old relationships. This year's annual "Party at the Old Post Office" promises to be a BIG party. Join us at our home\, 106 W. Wilson Street!
X-ALT-DESC;FMTTYPE=text/html:Once again\, join us for the premier Business After Hours for the Batavia Chamber.&nbsp\;Jon Baermann\, Masus Financial Group and Aliquot Capital LLC will join the Chamber in&nbsp\;co-creating an evening of great food\, sumptuous wine from Gibby's Wine Den and a chance to make many new friends and renew old relationships. This year's&nbsp\;annual "Party at the Old Post Office" promises to be a BIG party. Join us at our home\, 106 W. Wilson Street!<DIV>&nbsp\;</DIV>
LOCATION:Batavia Chamber of Commerce
UID:e.1902.1219
SEQUENCE:3
DTSTAMP:20260424T211446Z
URL:https://business.bataviachamber.org/events/details/harvest-celebration-at-the-old-post-office-10-28-2009-1219
END:VEVENT

END:VCALENDAR
