BEGIN:VCALENDAR
VERSION:2.0
PRODID:-//ChamberMaster//Event Calendar 2.0//EN
METHOD:PUBLISH
X-PUBLISHED-TTL:P3D
REFRESH-INTERVAL:P3D
CALSCALE:GREGORIAN
BEGIN:VEVENT
DTSTART:20101027T220000Z
DTEND:20101028T000000Z
X-MICROSOFT-CDO-ALLDAYEVENT:FALSE
SUMMARY:Harvest Celebration at the Old Post Office
DESCRIPTION:Once again\, join us for the premier Business After Hours for the Batavia Chamber. We will once again announce the Dallesasse Award Winner. Join us for an evening of great food\, sumptuous wine from Gibby's Wine Den and a chance to make many new friends and renew old relationships. This year's annual "Party at the Old Post Office" promises to be BIG. Join us at our home\, 106 W. Wilson Street!
X-ALT-DESC;FMTTYPE=text/html:<P>Once again\, join us for the premier Business After Hours for the Batavia Chamber.&nbsp\;We will once again announce the Dallesasse Award Winner.&nbsp\;Join us&nbsp\;for an&nbsp\;evening of great food\, sumptuous wine from Gibby's Wine Den and a chance to make many new friends and renew old relationships. This year's&nbsp\;annual "Party at the Old Post Office" promises to be BIG. Join us at our home\, 106 W. Wilson Street!</P><DIV>&nbsp\;</DIV>
LOCATION:Batavia Chamber of Commerce
UID:e.1902.1227
SEQUENCE:3
DTSTAMP:20260423T235838Z
URL:https://business.bataviachamber.org/events/details/harvest-celebration-at-the-old-post-office-10-27-2010-1227
END:VEVENT

END:VCALENDAR
