BEGIN:VCALENDAR
VERSION:2.0
PRODID:-//ChamberMaster//Event Calendar 2.0//EN
METHOD:PUBLISH
X-PUBLISHED-TTL:P3D
REFRESH-INTERVAL:P3D
CALSCALE:GREGORIAN
BEGIN:VEVENT
DTSTART:20081022T220000Z
DTEND:20081023T000000Z
X-MICROSOFT-CDO-ALLDAYEVENT:FALSE
SUMMARY:Harvest Celebration at the Old Post Office
DESCRIPTION:For the third straight year\, attorney Jon Baermann and Masus Financial Group are joining the Chamber in co-creating an evening of great food\, sumptuous wine from Gibby's Wine Den and a chance to make many new friends and renew old relationships. This year's annual "Party at the Old Post Office" promises to be a BIG party. Join us at our home\, 106 W. Wilson Street!
X-ALT-DESC;FMTTYPE=text/html:For the third straight year\,&nbsp\;attorney Jon Baermann and Masus Financial Group are joining the Chamber in&nbsp\;co-creating an evening of great food\, sumptuous wine from Gibby's Wine Den and a chance to make many new friends and renew old relationships. This year's&nbsp\;annual "Party at the Old Post Office" promises to be a BIG party. Join us at our home\, 106 W. Wilson Street!<DIV>&nbsp\;</DIV>
LOCATION:Batavia Chamber of Commerce
UID:e.1902.1206
SEQUENCE:3
DTSTAMP:20260421T230225Z
URL:https://business.bataviachamber.org/events/details/harvest-celebration-at-the-old-post-office-10-22-2008-1206
END:VEVENT

END:VCALENDAR
