BEGIN:VCALENDAR
VERSION:2.0
PRODID:-//ChamberMaster//Event Calendar 2.0//EN
METHOD:PUBLISH
X-PUBLISHED-TTL:P3D
REFRESH-INTERVAL:P3D
CALSCALE:GREGORIAN
BEGIN:VEVENT
DTSTART:20201021T220000Z
DTEND:20201022T020000Z
X-MICROSOFT-CDO-ALLDAYEVENT:FALSE
SUMMARY:Halloween House Decorating Contest
DESCRIPTION:Let's see Batavia's scary and frightening house decorations in our popular Halloween House Decorating Contest. We will be awarding prizes for overall theme and people's choice. All displays will be judged on Wednesday\, October 21 from 5:00-9:00 pm. Winners will receive a Batavia Park District prize package. This contest is for Batavia Park District residents only. Addresses of all entries will be published in local media unless specified otherwise at the time of registration. Please indicate if you want us to view your decorations at dusk or dark. Registration deadline is October 19. See a list of participating houses at bataviaparks.org on Thursday\, October 22.
X-ALT-DESC;FMTTYPE=text/html:Let&#39\;s see Batavia&#39\;s scary and frightening house decorations in our popular Halloween House Decorating Contest. We will be awarding prizes for overall theme and people&#39\;s choice. All displays will be judged on Wednesday\, October 21 from 5:00-9:00 pm. Winners will receive a Batavia Park District prize package. This contest is for Batavia Park District residents only. Addresses of all entries will be published in local media unless specified otherwise at the time of registration. Please indicate if you want us to view your decorations at dusk or dark. Registration deadline is October 19. See a list of participating houses at bataviaparks.org on Thursday\, October 22.
LOCATION:Batavia
UID:e.1902.12462
SEQUENCE:3
DTSTAMP:20260422T095526Z
URL:https://business.bataviachamber.org/events/details/halloween-house-decorating-contest-10-21-2020-12462
END:VEVENT

END:VCALENDAR
