BEGIN:VCALENDAR
VERSION:2.0
PRODID:-//ChamberMaster//Event Calendar 2.0//EN
METHOD:PUBLISH
X-PUBLISHED-TTL:P3D
REFRESH-INTERVAL:P3D
CALSCALE:GREGORIAN
BEGIN:VEVENT
DTSTART:20101007T050000Z
DTEND:20101007T050000Z
X-MICROSOFT-CDO-ALLDAYEVENT:FALSE
SUMMARY:Green Thursday Computer & Electronics Recycling Event
DESCRIPTION:ArgusBCS invites local businesses to our 2nd Green Thursday Recycling Event.  Bring in all your oldcomputer and electronic equipment and we'll recycle it at no charge!  Stop in at 117 Flinn Street\, Batavia between 5 and 7 PM on Thursday\, October 7\, meet our friendly staff and enjoy some refreshments.  Visit www.argusbcs.com/greenthursday.asp for more information.
X-ALT-DESC;FMTTYPE=text/html:ArgusBCS invites local businesses to our 2nd Green Thursday Recycling Event.  Bring in all your oldcomputer and electronic equipment and we'll recycle it at no charge!  Stop in at 117 Flinn Street\, Batavia between 5 and 7 PM on Thursday\, October 7\, meet our friendly staff and enjoy some refreshments.  Visit www.argusbcs.com/greenthursday.asp for more information.
LOCATION:ArgusBCS
UID:e.1902.70
SEQUENCE:3
DTSTAMP:20260420T041508Z
URL:https://business.bataviachamber.org/events/details/green-thursday-computer-electronics-recycling-event-10-07-2010-70
END:VEVENT

END:VCALENDAR
