BEGIN:VCALENDAR
VERSION:2.0
PRODID:-//ChamberMaster//Event Calendar 2.0//EN
METHOD:PUBLISH
X-PUBLISHED-TTL:P3D
REFRESH-INTERVAL:P3D
CALSCALE:GREGORIAN
BEGIN:VEVENT
DTSTART:20170510T230000Z
DTEND:20170511T013000Z
X-MICROSOFT-CDO-ALLDAYEVENT:FALSE
SUMMARY:Green Drinks Batavia: Wildflower Walk at Fermilab
DESCRIPTION:Green Drinks Batavia:  Wildflower Walk at Fermilab\n\nWednesday\, May 10 at 6pm\n\n \n\nBatavia Environmental Commission and Fermilab Natural Areas are partnering to bring you a Green Drinks event this spring! The event will be held at 6:00 on May 10th\, 2017. Mark your calendars!\n\n \n\nMeet in the Lederman Science Center parking lot. We will take a wildflower walk through Fermilab's restored prairie and learn about the importance of native plants.\n\n \n\nAfterward\, all are welcome to join the BEC and Fermilab employees at Fermilab's very own Frontier Pub! You can learn more about what both groups are doing and how you can be involved. We hope to see you there!\n\n\n \n\nHere is a link to the Facebook event\n\nhttps://www.facebook.com/events/362201350847538/
X-ALT-DESC;FMTTYPE=text/html:<strong>Green Drinks Batavia:&nbsp\; Wildflower Walk at Fermilab</strong><br />\nWednesday\, May 10 at 6pm<br />\n&nbsp\;<br />\nBatavia Environmental Commission and Fermilab Natural Areas are partnering to bring you a Green Drinks event this spring! The event will be held at 6:00 on May 10th\, 2017. Mark your calendars!<br />\n&nbsp\;<br />\nMeet in the Lederman Science Center parking lot. We will take a wildflower walk through Fermilab&#39\;s restored prairie and learn about the importance of native plants.<br />\n&nbsp\;<br />\nAfterward\, all are welcome to join the BEC and Fermilab employees at Fermilab&#39\;s very own Frontier Pub! You can learn more about what both groups are doing and how you can be involved. We hope to see you there!\n<div align="center" style="text-align:center\;">\n<hr align="center" size="2" width="100%" /></div>\n&nbsp\;<br />\nHere is a link to the Facebook event<br />\n<a href="https://www.facebook.com/events/362201350847538/">https://www.facebook.com/events/362201350847538/</a>
LOCATION:Fermilab's Lederman Science Center/Frontier Pub
UID:e.1902.6604
SEQUENCE:3
DTSTAMP:20260425T113745Z
URL:https://business.bataviachamber.org/events/details/green-drinks-batavia-wildflower-walk-at-fermilab-6604
END:VEVENT

END:VCALENDAR
