BEGIN:VCALENDAR
VERSION:2.0
PRODID:-//ChamberMaster//Event Calendar 2.0//EN
METHOD:PUBLISH
X-PUBLISHED-TTL:P3D
REFRESH-INTERVAL:P3D
CALSCALE:GREGORIAN
BEGIN:VEVENT
DTSTART:20110704T050000Z
DTEND:20110704T050000Z
X-MICROSOFT-CDO-ALLDAYEVENT:FALSE
SUMMARY:Great Western Freedom 4
DESCRIPTION:2 mile walk and 4 mile competitive race.  \n\nSponsorship opportunities available. See detail at www.lazarushouseonline.com.\n\nRun/Walk pre-registration at https://www.signmeup.com/site/online-event-registration/74676/SMUCalendar\nOnline race fee $20\, walk $15. Event day registration an additional$6 or $5 with a donation of napkins\, toilet paper or paper towels.  All runners and walkers encouraged to collect pledges for Lazarus House.\nAll proceeds benefit Lazarus House\, a 501(c)(3) charitableorganization that provides a variety of assistance to persons who are homeless or at risk of becoming homeless and are connected to St. Charles\, Geneva\, Batavia or western rural Kane County.
X-ALT-DESC;FMTTYPE=text/html:2 mile walk and 4 mile competitive race.  \n\nSponsorship opportunities available. See detail at www.lazarushouseonline.com.\n\nRun/Walk pre-registration at https://www.signmeup.com/site/online-event-registration/74676/SMUCalendar\nOnline race fee $20\, walk $15. Event day registration an additional$6 or $5 with a donation of napkins\, toilet paper or paper towels.  All runners and walkers encouraged to collect pledges for Lazarus House.\nAll proceeds benefit Lazarus House\, a 501(c)(3) charitableorganization that provides a variety of assistance to persons who are homeless or at risk of becoming homeless and are connected to St. Charles\, Geneva\, Batavia or western rural Kane County.
LOCATION:LeRoy Oakes Forest Preserve
UID:e.1902.210
SEQUENCE:3
DTSTAMP:20260423T084612Z
URL:https://business.bataviachamber.org/events/details/great-western-freedom-4-07-04-2011-210
END:VEVENT

END:VCALENDAR
