BEGIN:VCALENDAR
VERSION:2.0
PRODID:-//ChamberMaster//Event Calendar 2.0//EN
METHOD:PUBLISH
X-PUBLISHED-TTL:P3D
REFRESH-INTERVAL:P3D
CALSCALE:GREGORIAN
BEGIN:VEVENT
DTSTART:20100619T050000Z
DTEND:20100619T050000Z
X-MICROSOFT-CDO-ALLDAYEVENT:FALSE
SUMMARY:Great Lobster Fly-In
DESCRIPTION:Save the Date for the Great Lobster Fly-In!\n\nThe lobsters are coming!  \n\nTriCity Family Serviceswill be flying in fresh 1 ¼ live lobsters again for Father’s Day weekend.  Lobsters can be picked up live or steamed.  \n\nIn addition to lobsters we will be selling beef filets\, bread and dessert.Orders will be accepted by mail\, phone and online.  \n\nOrders will need to be picked up at the Great Lobster Fly-In event\nSaturday\, June 19\, 2010\n9:00 AM to 11:30 AM\nOld Kane County Courthouse parking lot\nLocated on James Street in downtown Geneva\n\nAll proceeds benefit TriCity Family Services.  \n\nSave the Date.  Saturday\, June 19\, 2010.  \nOrder information will be available in the spring.
X-ALT-DESC;FMTTYPE=text/html:Save the Date for the Great Lobster Fly-In!\n\nThe lobsters are coming!  \n\nTriCity Family Serviceswill be flying in fresh 1 ¼ live lobsters again for Father’s Day weekend.  Lobsters can be picked up live or steamed.  \n\nIn addition to lobsters we will be selling beef filets\, bread and dessert.Orders will be accepted by mail\, phone and online.  \n\nOrders will need to be picked up at the Great Lobster Fly-In event\nSaturday\, June 19\, 2010\n9:00 AM to 11:30 AM\nOld Kane County Courthouse parking lot\nLocated on James Street in downtown Geneva\n\nAll proceeds benefit TriCity Family Services.  \n\nSave the Date.  Saturday\, June 19\, 2010.  \nOrder information will be available in the spring.\n
LOCATION:Old Kane County Courthouse parking lot
UID:e.1902.986
SEQUENCE:3
DTSTAMP:20260420T111335Z
URL:https://business.bataviachamber.org/events/details/great-lobster-fly-in-06-19-2010-986
END:VEVENT

END:VCALENDAR
