BEGIN:VCALENDAR
VERSION:2.0
PRODID:-//ChamberMaster//Event Calendar 2.0//EN
METHOD:PUBLISH
X-PUBLISHED-TTL:P3D
REFRESH-INTERVAL:P3D
CALSCALE:GREGORIAN
BEGIN:VEVENT
DTSTART:20100110T060000Z
DTEND:20100110T060000Z
X-MICROSOFT-CDO-ALLDAYEVENT:FALSE
SUMMARY:Grease Sing-a-Long
DESCRIPTION:SAVE THE DATE for Grease Sing-a-Long for TriCity Family Services\n\nCome enjoy the original movie starring John Travolta and Olivia Newton-John\, with all your favorite songs.  Your chills will be multiplyin' and the mood electrifyin' as you sing along to hit tunes like You're the One That I Want\, Greased Lightning\, We Go Together\, Summer Loving\, and many more.  There’s no need to memorize your “ramma lamma lamma ka dinga da dinga dong” though\, the movie will feature subtitled lyrics so the audience can sing-a-long-- and don't worry if you sing off key...there are worse things you could do. Like miss this GREASE SING-A-LONG event!  \n \nCome dressed to impress as your favorite Pink Lady or T-Bird.  Poodle skirts\, black leather jackets\, and Rydell High School cheerleaders welcome.  Costume contest\, goody bag with props\, and more!  Concessions will be available.  No outside food or beveragepermitted.  All proceeds benefit TriCity Family Services.  \n\nSave the date.  Sunday\, January 10\,2010.  Ticket information available soon.
X-ALT-DESC;FMTTYPE=text/html:SAVE THE DATE for Grease Sing-a-Long for TriCity Family Services\n\nCome enjoy the original movie starring John Travolta and Olivia Newton-John\, with all your favorite songs.  Your chills will be multiplyin' and the mood electrifyin' as you sing along to hit tunes like You're the One That I Want\, Greased Lightning\, We Go Together\, Summer Loving\, and many more.  There’s no need to memorize your “ramma lamma lamma ka dinga da dinga dong” though\, the movie will feature subtitled lyrics so the audience can sing-a-long-- and don't worry if you sing off key...there are worse things you could do. Like miss this GREASE SING-A-LONG event!  \n \nCome dressed to impress as your favorite Pink Lady or T-Bird.  Poodle skirts\, black leather jackets\, and Rydell High School cheerleaders welcome.  Costume contest\, goody bag with props\, and more!  Concessions will be available.  No outside food or beveragepermitted.  All proceeds benefit TriCity Family Services.  \n\nSave the date.  Sunday\, January 10\,2010.  Ticket information available soon.  \n
LOCATION:Dellora A. Norris Cultural Arts Center
UID:e.1902.984
SEQUENCE:3
DTSTAMP:20260420T194816Z
URL:https://business.bataviachamber.org/events/details/grease-sing-a-long-01-10-2010-984
END:VEVENT

END:VCALENDAR
