BEGIN:VCALENDAR
VERSION:2.0
PRODID:-//ChamberMaster//Event Calendar 2.0//EN
METHOD:PUBLISH
X-PUBLISHED-TTL:P3D
REFRESH-INTERVAL:P3D
CALSCALE:GREGORIAN
BEGIN:VEVENT
DTSTART:20090918T050000Z
DTEND:20090918T050000Z
X-MICROSOFT-CDO-ALLDAYEVENT:FALSE
SUMMARY:Grand Opening of Water Street Studios
DESCRIPTION:The Batavia Artists Association will be featuring more than just its gallery and art at the Grand Opening of Water Street Studios.  Entertainment for guests during the Grand Opening of Batavia’s new downtown art studio space will be provided by a five piece string ensemble (PAPASAZZ) consisting  ofAurora Youth Symphony members Andrew Pedersen\, Bass\, Sam Pedersen\, Violin/Viola\,  Anna Zarn\, Violin/Viola\, Adam Zarn\, Cello\, and Mark Seiber\, Viola.  The quintet will perform for the duration of the event from 6-9pm at Water Street Studios\, 160 S. Water Street in Batavia. Along with musical entertainment\, beverages and o’devours will be provided from local businesses.
X-ALT-DESC;FMTTYPE=text/html:The Batavia Artists Association will be featuring more than just its gallery and art at the Grand Opening of Water Street Studios.  Entertainment for guests during the Grand Opening of Batavia’s new downtown art studio space will be provided by a five piece string ensemble (PAPASAZZ) consisting  ofAurora Youth Symphony members Andrew Pedersen\, Bass\, Sam Pedersen\, Violin/Viola\,  Anna Zarn\, Violin/Viola\, Adam Zarn\, Cello\, and Mark Seiber\, Viola.  The quintet will perform for the duration of the event from 6-9pm at Water Street Studios\, 160 S. Water Street in Batavia. Along with musical entertainment\, beverages and o’devours will be provided from local businesses.
LOCATION:Water Street Studios
UID:e.1902.1002
SEQUENCE:3
DTSTAMP:20260421T031701Z
URL:https://business.bataviachamber.org/events/details/grand-opening-of-water-street-studios-09-18-2009-1002
END:VEVENT

END:VCALENDAR
