BEGIN:VCALENDAR
VERSION:2.0
PRODID:-//ChamberMaster//Event Calendar 2.0//EN
METHOD:PUBLISH
X-PUBLISHED-TTL:P3D
REFRESH-INTERVAL:P3D
CALSCALE:GREGORIAN
BEGIN:VEVENT
DTSTART:20110522T050000Z
DTEND:20110522T050000Z
X-MICROSOFT-CDO-ALLDAYEVENT:FALSE
SUMMARY:Grand Opening & Dedication of the Peg Bond Center Performing
DESCRIPTION:The community is invited to celebrate the grand opening and dedication of the Pavilion on Sunday\, May 22 from 2:00-8:00 p.m. Bring a lawn chair or blankets and take in a variety of local talent.
X-ALT-DESC;FMTTYPE=text/html:The community is invited to celebrate the grand opening and dedication of the Pavilion on Sunday\, May 22 from 2:00-8:00 p.m. Bring a lawn chair or blankets and take in a variety of local talent.
LOCATION:Peg Bond Center on the Batavia Riverwalk
UID:e.1902.249
SEQUENCE:3
DTSTAMP:20260419T164725Z
URL:https://business.bataviachamber.org/events/details/grand-opening-dedication-of-the-peg-bond-center-performing-05-22-2011-249
END:VEVENT

END:VCALENDAR
