BEGIN:VCALENDAR
VERSION:2.0
PRODID:-//ChamberMaster//Event Calendar 2.0//EN
METHOD:PUBLISH
X-PUBLISHED-TTL:P3D
REFRESH-INTERVAL:P3D
CALSCALE:GREGORIAN
BEGIN:VEVENT
DTSTART:20090613T050000Z
DTEND:20090613T050000Z
X-MICROSOFT-CDO-ALLDAYEVENT:FALSE
SUMMARY:Grand Opening
DESCRIPTION:Ribbon cutting at 10:00 am by Mayor Schielke\, refreshments will be served.
X-ALT-DESC;FMTTYPE=text/html:Ribbon cutting at 10:00 am by Mayor Schielke\, refreshments will be served.
LOCATION:Eclectibles
UID:e.1902.955
SEQUENCE:3
DTSTAMP:20260421T085810Z
URL:https://business.bataviachamber.org/events/details/grand-opening-06-13-2009-955
END:VEVENT

END:VCALENDAR
