BEGIN:VCALENDAR
VERSION:2.0
PRODID:-//ChamberMaster//Event Calendar 2.0//EN
METHOD:PUBLISH
X-PUBLISHED-TTL:P3D
REFRESH-INTERVAL:P3D
CALSCALE:GREGORIAN
BEGIN:VEVENT
DTSTART:20120223T060000Z
DTEND:20120223T060000Z
X-MICROSOFT-CDO-ALLDAYEVENT:FALSE
SUMMARY:Graduate Programs Open House
DESCRIPTION:Aurora University will offer information on graduate programs in accountancy\, education\, business\, criminal justice\, mathematics and social work. Check in begins at 6:00 p.m. with the program beginning at 6:30 p.m.\n\nProspective graduate students are invited to the event in Crimi Auditorium in theInstitute for Collaboration at 407 S. Calumet Ave. in Aurora. \n\nFaculty members\, current studentsand administrators will provide information on degree\, certificate and endorsement programs\, and financial aid and admission requirements.\n\nFinancial aid\, scholarships and payment options are available to students who qualify.
X-ALT-DESC;FMTTYPE=text/html:Aurora University will offer information on graduate programs in accountancy\, education\, business\, criminal justice\, mathematics and social work. Check in begins at 6:00 p.m. with the program beginning at 6:30 p.m.\n\nProspective graduate students are invited to the event in Crimi Auditorium in theInstitute for Collaboration at 407 S. Calumet Ave. in Aurora. \n\nFaculty members\, current studentsand administrators will provide information on degree\, certificate and endorsement programs\, and financial aid and admission requirements.\n\nFinancial aid\, scholarships and payment options are available to students who qualify.
LOCATION:Aurora University
UID:e.1902.515
SEQUENCE:3
DTSTAMP:20260422T203954Z
URL:https://business.bataviachamber.org/events/details/graduate-programs-open-house-02-23-2012-515
END:VEVENT

END:VCALENDAR
