BEGIN:VCALENDAR
VERSION:2.0
PRODID:-//ChamberMaster//Event Calendar 2.0//EN
METHOD:PUBLISH
X-PUBLISHED-TTL:P3D
REFRESH-INTERVAL:P3D
CALSCALE:GREGORIAN
BEGIN:VEVENT
DTSTART:20090708T050000Z
DTEND:20090708T050000Z
X-MICROSOFT-CDO-ALLDAYEVENT:FALSE
SUMMARY:''Good Morning Waterford''
DESCRIPTION:You are cordially invited to "Good Morning Waterford".  Come and enjoy a continental breakfast and start your day networking!! Tour our new suites.  Raffles and much more!!!
X-ALT-DESC;FMTTYPE=text/html:You are cordially invited to "Good Morning Waterford".  Come and enjoy a continental breakfast and start your day networking!! Tour our new suites.  Raffles and much more!!!
LOCATION:Alden Gardens of Waterford Assisted Living Community
UID:e.1902.970
SEQUENCE:3
DTSTAMP:20260421T072830Z
URL:https://business.bataviachamber.org/events/details/good-morning-waterford-07-08-2009-970
END:VEVENT

END:VCALENDAR
