BEGIN:VCALENDAR
VERSION:2.0
PRODID:-//ChamberMaster//Event Calendar 2.0//EN
METHOD:PUBLISH
X-PUBLISHED-TTL:P3D
REFRESH-INTERVAL:P3D
CALSCALE:GREGORIAN
BEGIN:VEVENT
DTSTART:20110201T140000Z
DTEND:20110201T153000Z
X-MICROSOFT-CDO-ALLDAYEVENT:FALSE
SUMMARY:Good Leader\, Bad Leader: What Makes the Difference
DESCRIPTION:Join us February 1 to hear \nAl Ritter of the Ritter Consulting GroupWe’ll be at the Holmstad Town Center from 8:00am to 9:30am  Al will present the most important behaviors of successful business leaders\, based on his two decades experience as a management consultant and coach with thousands of business leaders.  Since many of these behaviors are counter-intuitive and therefore not immediately obvious to most of us\, Al will explain how these behaviors can be learned and effectively implemented\, resulting in breakthrough results for the leader and his or her organization. Biography Al Ritter is president of the Ritter Consulting Group. He is a leadership coach\, professional speaker\, and author of two best-selling books on leadership--Life is a Paradox and The 100/0 Principle. Al has consulted for the past 22 years across many industries in both the U.S. and overseas. He works with CEOs\, other leaders and teams committed to achieving breakthrough results. Before starting his own firm\, Al worked for Accenture\, where he was recognized as that firm’s resident expert in leadership development\, team building and corporate culture.
X-ALT-DESC;FMTTYPE=text/html:<DIV style="FONT-FAMILY: Arial" align=center><FONT color=#0000a0>Join us&nbsp\;February 1 to hear <BR><STRONG><EM><FONT color=#ff0000 size=4>Al Ritter of the Ritter Consulting Group</FONT></EM></STRONG></FONT></DIV><DIV style="FONT-FAMILY: Arial" align=center><FONT color=#0000a0><FONT size=2>We’ll be at the Holmstad Town Center from 8:00am to 9:30am</FONT></FONT></DIV><DIV style="FONT-FAMILY: Arial" align=center>&nbsp\;</DIV><DIV style="FONT-FAMILY: Arial" align=center>&nbsp\;</DIV><DIV style="FONT-FAMILY: Arial" align=left><FONT color=#0000a0><P class=MsoNormal style="MARGIN: 0in 0in 0pt"><FONT color=#0000ff size=4>Al will present the most important behaviors of successful business leaders\, based on his two decades experience as a management consultant and coach with thousands of business leaders. <SPAN style="mso-spacerun: yes">&nbsp\;</SPAN>Since many of these behaviors are counter-intuitive and therefore not immediately obvious to most of us\, Al will explain how these behaviors can be learned and effectively implemented\, resulting in breakthrough results for the leader and his or her organization.</FONT></P><P class=MsoNormal style="MARGIN: 0in 0in 0pt"><?xml:namespace prefix = o ns = "urn:schemas-microsoft-com:office:office" /><o:p><FONT color=#0000ff size=4>&nbsp\;</FONT></o:p></P><P class=MsoNormal style="MARGIN: 0in 0in 0pt"><B style="mso-bidi-font-weight: normal"><FONT color=#0000ff><FONT size=4><U>Biography</U></FONT></FONT></B></P><P class=MsoNormal style="MARGIN: 0in 0in 0pt"><U><o:p><SPAN style="TEXT-DECORATION: none"><FONT color=#0000ff size=4></FONT></SPAN></o:p></U></P><P class=MsoNormal style="MARGIN: 0in 0in 0pt"><FONT color=#0000ff size=4></FONT>&nbsp\;</P><P class=MsoNormal style="MARGIN: 0in 0in 0pt"><FONT color=#0000ff size=4>Al Ritter is president of the Ritter Consulting Group. He is a leadership coach\, professional speaker\, and author of two best-selling books on leadership--<I style="mso-bidi-font-style: normal">Life is a Paradox </I>and <I style="mso-bidi-font-style: normal">The 100/0 Principle.</I> Al has consulted for the past 22 years across many industries in both the <?xml:namespace prefix = st1 ns = "urn:schemas-microsoft-com:office:smarttags" /><st1:country-region w:st="on"><st1:place w:st="on">U.S.</st1:place></st1:country-region> and overseas. He works with CEOs\, other leaders and teams committed to achieving breakthrough results. Before starting his own firm\, Al worked for Accenture\, where he was recognized as that firm’s resident expert in leadership development\, team building and corporate culture.</FONT></P></FONT></DIV>
LOCATION:The Holmstad Town Center
UID:e.1902.1655
SEQUENCE:3
DTSTAMP:20260419T212052Z
URL:https://business.bataviachamber.org/events/details/good-leader-bad-leader-what-makes-the-difference-02-01-2011-1655
END:VEVENT

END:VCALENDAR
