BEGIN:VCALENDAR
VERSION:2.0
PRODID:-//ChamberMaster//Event Calendar 2.0//EN
METHOD:PUBLISH
X-PUBLISHED-TTL:P3D
REFRESH-INTERVAL:P3D
CALSCALE:GREGORIAN
BEGIN:VEVENT
DTSTART:20110516T050000Z
DTEND:20110516T050000Z
X-MICROSOFT-CDO-ALLDAYEVENT:FALSE
SUMMARY:Golf & Dinner Auction Benefit
DESCRIPTION:Get your name out there with a sponsorship.  Take a chance to win a new Harley with a hole-in-one.Bid on fabulous vacation and sports items at auction.  All for a great cause.  Open range at 9 am. Dinner-only option for non-golfers. See Events at www.lazarushouseonline.com for full details.
X-ALT-DESC;FMTTYPE=text/html:Get your name out there with a sponsorship.  Take a chance to win a new Harley with a hole-in-one.Bid on fabulous vacation and sports items at auction.  All for a great cause.  Open range at 9 am. Dinner-only option for non-golfers. See Events at www.lazarushouseonline.com for full details.
LOCATION:Royal Fox Country Club
UID:e.1902.206
SEQUENCE:3
DTSTAMP:20260419T163853Z
URL:https://business.bataviachamber.org/events/details/golf-dinner-auction-benefit-05-16-2011-206
END:VEVENT

END:VCALENDAR
