BEGIN:VCALENDAR
VERSION:2.0
PRODID:-//ChamberMaster//Event Calendar 2.0//EN
METHOD:PUBLISH
X-PUBLISHED-TTL:P3D
REFRESH-INTERVAL:P3D
CALSCALE:GREGORIAN
BEGIN:VEVENT
DTSTART:20080818T150000Z
DTEND:20080818T190000Z
X-MICROSOFT-CDO-ALLDAYEVENT:FALSE
SUMMARY:Glaucoma Sreenings Sponsored by State Rep. Mike Fortner
DESCRIPTION:No Cost Glaucoma Screenigs sponsored by IL State Representative Mike Fortner and the Illinois Eye Institute.
X-ALT-DESC;FMTTYPE=text/html:No Cost Glaucoma Screenigs sponsored by IL State Representative Mike Fortner and the Illinois Eye Institute.
LOCATION:Supermercado LaChiquita
UID:e.1902.1569
SEQUENCE:3
DTSTAMP:20260422T023552Z
URL:https://business.bataviachamber.org/events/details/glaucoma-sreenings-sponsored-by-state-rep-mike-fortner-08-18-2008-1569
END:VEVENT

END:VCALENDAR
