BEGIN:VCALENDAR
VERSION:2.0
PRODID:-//ChamberMaster//Event Calendar 2.0//EN
METHOD:PUBLISH
X-PUBLISHED-TTL:P3D
REFRESH-INTERVAL:P3D
CALSCALE:GREGORIAN
BEGIN:VEVENT
DTSTART;VALUE=DATE:20201126
DTEND;VALUE=DATE:20201202
TRANSP:TRANSPARENT
X-MICROSOFT-CDO-ALLDAYEVENT:TRUE
SUMMARY:#GivingTuesday for Seniors
DESCRIPTION:This Giving Tuesday\, December 1\, 2020\, Batavia United Way is partnering with Schaefer Greenhouses\, Inc.\, The Tea Tree Batavia\, and UBS Financial of Oakbrook Terrace to send Batavia senior citizens some holiday cheer. Each donation of $25 will secure a poinsettia\, a cup of tea\, and a McDonald's gift card to a needy senior to brighten their day. This pandemic has been difficult and isolating to so many people\, especially our elderly neighbors. Please consider donating to help show our love at a time when we are unable to be physically present to do so. A special thanks to our friends at Batavia RSVP who will be assisting with deliveries. Donations can be made on our website at www.bataviaunitedway.org or by sending a check to PO Box 372 Batavia\, IL  60510.
X-ALT-DESC;FMTTYPE=text/html:<span style="font-family:arial\,sans-serif"><span style="font-size:10.0pt">This Giving Tuesday\, December 1\, 2020\, Batavia United Way is partnering with Schaefer Greenhouses\, Inc.\, The Tea Tree Batavia\, and UBS Financial of Oakbrook Terrace to send Batavia senior citizens some holiday cheer. Each donation of $25 will secure a poinsettia\, a cup of tea\, and a McDonald&rsquo\;s gift card to a needy senior to brighten their day. This pandemic has been difficult and isolating to so many people\, especially our elderly neighbors. Please consider donating to help show our love at a time when we are unable to be physically present to do so. A special thanks to our friends at Batavia RSVP who will be assisting with deliveries. Donations can be made on our website at </span></span><span style="font-family:arial\,sans-serif"><span style="font-size:10.0pt"><a href="http://www.bataviaunitedway.org" target="_blank">www.bataviaunitedway.org</a></span></span><span style="font-family:arial\,sans-serif"><span style="font-size:10.0pt"> or by sending a check to PO Box 372 Batavia\, IL&nbsp\; 60510.</span></span>
LOCATION:
UID:e.1902.12750
SEQUENCE:3
DTSTAMP:20260422T071844Z
URL:https://business.bataviachamber.org/events/details/givingtuesday-for-seniors-12750
END:VEVENT

END:VCALENDAR
