BEGIN:VCALENDAR
VERSION:2.0
PRODID:-//ChamberMaster//Event Calendar 2.0//EN
METHOD:PUBLISH
X-PUBLISHED-TTL:P3D
REFRESH-INTERVAL:P3D
CALSCALE:GREGORIAN
BEGIN:VEVENT
DTSTART;VALUE=DATE:20251202
DTEND;VALUE=DATE:20251203
TRANSP:TRANSPARENT
X-MICROSOFT-CDO-ALLDAYEVENT:TRUE
SUMMARY:Giving Tuesday
DESCRIPTION:Every day\, we meet animals who need someone in their corner. This Giving Tuesday\, you can be that someone.\n\n\n\nYour support helps animals get the care\, safety\, and second chances they deserve. Every contribution makes a real difference and helps fund the critical care and programs our community relies on\, from lifesaving treatments to adoption services and wildlife rehabilitation.\n\nA gift of any size matters. Join us in helping more animals find safety\, healing\, and hope. Thank you for standing with us. Your kindness truly changes lives.\n\nClick here to donate!\n\nIf you (individual or business) are interested in fundraising for us\, contact Jenn Smiley at jsmiley@ahconnects.org to help get a fundraising page set up for you today!
X-ALT-DESC;FMTTYPE=text/html:<div style="background:50% center / cover no-repeat rgb(248\, 247\, 247)\; border:0px\; padding:0px">\n<div style="background:transparent\; border:0px\; padding:0px">Every day\, we meet animals who need someone in their corner. This Giving Tuesday\, you can be that someone.</div>\n</div>\n\n<div style="background:50% center / cover no-repeat rgb(248\, 247\, 247)\; border:0px\; padding:20px 40px">\n<p>Your support helps animals get the care\, safety\, and second chances they deserve. Every contribution makes a real difference and helps fund the critical care and programs our community relies on\, from lifesaving treatments to adoption services and wildlife rehabilitation.</p>\n\n<p>A gift of any size matters. Join us in helping more animals find safety\, healing\, and hope. Thank you for standing with us. Your kindness truly changes lives.</p>\n\n<p><strong><a href="https://form-renderer-app.donorperfect.io/give/anderson-humane-center/2025-giving-tuesday---generic-social-posts" style="box-sizing: border-box\; margin: 0px\; padding: 0px\; border: 0px\; outline: 0px\; text-size-adjust: 100%\; vertical-align: baseline\; background: transparent\; text-decoration-color: rgb(171\, 195\, 128)\; color: rgb(171\, 195\, 128) !important\;" target="_blank">Click here</a>&nbsp\;to donate!</strong></p>\n\n<p>If you (individual or business) are interested in fundraising for us\, contact Jenn Smiley at <a href="mailto:jsmiley@ahconnects.org">jsmiley@ahconnects.org</a> to help get a fundraising page set up for you today!</p>\n</div>\n
LOCATION:
UID:e.1902.30394
SEQUENCE:3
DTSTAMP:20260419T125959Z
URL:https://business.bataviachamber.org/events/details/giving-tuesday-30394
END:VEVENT

END:VCALENDAR
