BEGIN:VCALENDAR
VERSION:2.0
PRODID:-//ChamberMaster//Event Calendar 2.0//EN
METHOD:PUBLISH
X-PUBLISHED-TTL:P3D
REFRESH-INTERVAL:P3D
CALSCALE:GREGORIAN
BEGIN:VEVENT
DTSTART;VALUE=DATE:20240306
DTEND;VALUE=DATE:20240307
TRANSP:TRANSPARENT
X-MICROSOFT-CDO-ALLDAYEVENT:TRUE
SUMMARY:Give Education Day
DESCRIPTION:What if we all gave on one day? Please join us in celebrating Give Education Day on Wednesday\, March 6th\, as our community will come together for 24 hours of unprecedented giving to support the Batavia Foundation for Educational Excellence in its mission to foster innovation and expand opportunities to ensure BPS101 students are always learning and always growing.\n\n\n\nThe Batavia Foundation for Educational Excellence is a not-for-profit organization with the goal of supporting the Batavia Public School District\, its teachers and students.  It awards grants each spring to teachers\, administrators and community members to support innovative projects that enhance the educational opportunities of Batavia students.\n\n\n\nWhether it's $10\, $25\, or even more\, every donation makes a difference. Plus\, your participation in Give Education Day isn't just about the amount you give   it's about showing your commitment to helping our students grow to their maximum potential.
X-ALT-DESC;FMTTYPE=text/html:<span style="color: rgb(68\, 68\, 68)\; font-family: arial\; font-size: 14px\; background-color: rgb(255\, 255\, 255)\;">What if we all&nbsp\;gave on one&nbsp\;day? Please join us in celebrating&nbsp\;</span><u><a href="https://www.give-education.com/donate/Batavia-Foundation-For-Educational-Excellence" style="box-sizing: border-box\; background-color: rgb(255\, 255\, 255)\; color: rgb(0\, 69\, 124)\; text-decoration-line: none\; overflow-wrap: break-word\; font-family: arial\; font-size: 14px\;" target="_blank"><span style="box-sizing: border-box\; color: maroon\;">Give Education Day</span></a>&nbsp\;</u><span style="color: rgb(68\, 68\, 68)\; font-family: arial\; font-size: 14px\; background-color: rgb(255\, 255\, 255)\;">on&nbsp\;</span><span style="box-sizing: border-box\; font-weight: bolder\; color: rgb(68\, 68\, 68)\; font-family: arial\; font-size: 14px\; background-color: rgb(255\, 255\, 255)\;">Wednesday\, March 6th</span><span style="color: rgb(68\, 68\, 68)\; font-family: arial\; font-size: 14px\; background-color: rgb(255\, 255\, 255)\;">\, as our community will come together for 24 hours of unprecedented giving to support the Batavia&nbsp\;Foundation for Educational Excellence&nbsp\;in its mission to foster innovation and expand opportunities&nbsp\;to ensure BPS101 students are always learning and always growing.</span><br style="box-sizing: border-box\; color: rgb(68\, 68\, 68)\; font-family: arial\; font-size: 14px\; background-color: rgb(255\, 255\, 255)\;" />\n<br style="box-sizing: border-box\; color: rgb(68\, 68\, 68)\; font-family: arial\; font-size: 14px\; background-color: rgb(255\, 255\, 255)\;" />\n<span style="color: rgb(68\, 68\, 68)\; font-family: arial\; font-size: 14px\; background-color: rgb(255\, 255\, 255)\;">The Batavia Foundation for Educational Excellence is a not-for-profit organization with the goal of supporting the Batavia Public School District\, its teachers and students.&nbsp\; It awards grants each spring to teachers\, administrators and community members to support innovative projects that enhance the educational&nbsp\;opportunities of Batavia students.</span><br style="box-sizing: border-box\; color: rgb(68\, 68\, 68)\; font-family: arial\; font-size: 14px\; background-color: rgb(255\, 255\, 255)\;" />\n<br style="box-sizing: border-box\; color: rgb(68\, 68\, 68)\; font-family: arial\; font-size: 14px\; background-color: rgb(255\, 255\, 255)\;" />\n<a href="https://www.give-education.com/donate/Batavia-Foundation-For-Educational-Excellence" style="box-sizing: border-box\; background-color: rgb(255\, 255\, 255)\; color: rgb(0\, 69\, 124)\; text-decoration-line: none\; overflow-wrap: break-word\; font-family: arial\; font-size: 14px\;" target="_blank"><span style="box-sizing: border-box\; font-weight: bolder\;"><span style="box-sizing: border-box\; color: maroon\;">Whether it&#39\;s $10\, $25\, or even more\, every donation makes a difference.</span></span></a><span style="color: rgb(68\, 68\, 68)\; font-family: arial\; font-size: 14px\; background-color: rgb(255\, 255\, 255)\;">&nbsp\;Plus\, your participation in Give Education Day isn&#39\;t just about the amount you give &ndash\;&nbsp\;it&#39\;s about showing your commitment&nbsp\;to helping our students grow to their maximum&nbsp\;potential.</span>
LOCATION:
UID:e.1902.24487
SEQUENCE:3
DTSTAMP:20260419T152330Z
URL:https://business.bataviachamber.org/events/details/give-education-day-24487
END:VEVENT

END:VCALENDAR
