BEGIN:VCALENDAR
VERSION:2.0
PRODID:-//ChamberMaster//Event Calendar 2.0//EN
METHOD:PUBLISH
X-PUBLISHED-TTL:P3D
REFRESH-INTERVAL:P3D
CALSCALE:GREGORIAN
BEGIN:VEVENT
DTSTART:20110617T050000Z
DTEND:20110617T050000Z
X-MICROSOFT-CDO-ALLDAYEVENT:FALSE
SUMMARY:Gibby's Wine Den ~ Women & Wine Luncheon
DESCRIPTION:Come for one delicious luncheon or sign up for all three! Join us at Gibby's Wine Den the third Friday of each month for a delightful learning experience. Ladies will enjoy a hand selected menu alongwith two wines. Explore the marriage of food and wine\, how they affect each other. Perfect way to spend a summer afternoon with your girlfriends! Sign up on your own or as a group (Red Hat\, Bunco etc). Instructor: Gibby’s Wine Den Staff (BK)\n$39 (N/R $58) (G) Gibby’s Wine Den\nF 6/17 12:00 pm\nF 7/15 12:00 pm\nF 8/19 12:00 pm\nMust be 21 or over\, contact Batavia Park District (630-879-5235)or Geneva Park District (630-232-4542).
X-ALT-DESC;FMTTYPE=text/html:Come for one delicious luncheon or sign up for all three! Join us at Gibby's Wine Den the third Friday of each month for a delightful learning experience. Ladies will enjoy a hand selected menu alongwith two wines. Explore the marriage of food and wine\, how they affect each other. Perfect way to spend a summer afternoon with your girlfriends! Sign up on your own or as a group (Red Hat\, Bunco etc). Instructor: Gibby’s Wine Den Staff (BK)\n$39 (N/R $58) (G) Gibby’s Wine Den\nF 6/17 12:00 pm\nF 7/15 12:00 pm\nF 8/19 12:00 pm\nMust be 21 or over\, contact Batavia Park District (630-879-5235)or Geneva Park District (630-232-4542).\n\n
LOCATION:Gibby's Wine Den
UID:e.1902.277
SEQUENCE:3
DTSTAMP:20260419T164602Z
URL:https://business.bataviachamber.org/events/details/gibby-s-wine-den-women-wine-luncheon-06-17-2011-277
END:VEVENT

END:VCALENDAR
