BEGIN:VCALENDAR
VERSION:2.0
PRODID:-//ChamberMaster//Event Calendar 2.0//EN
METHOD:PUBLISH
X-PUBLISHED-TTL:P3D
REFRESH-INTERVAL:P3D
CALSCALE:GREGORIAN
BEGIN:VEVENT
DTSTART:20100429T050000Z
DTEND:20100429T050000Z
X-MICROSOFT-CDO-ALLDAYEVENT:FALSE
SUMMARY:Gibby's Wine Den ~ Wine Tasting at Shady Hill Gardens
DESCRIPTION:The greenhouse will be in full bloom just waiting for you to stroll down the aisles\, enjoy the flora\, sip wonderful wine and indulge on nibbles. Join us on Thursday\, April 29 from 5-7 p.m. at Shady Hill Gardens in Elburn as we welcome in Spring and the new growing season!\n\nShady Hill Gardens is located at 42W075 Route 38\, Elburn
X-ALT-DESC;FMTTYPE=text/html:The greenhouse will be in full bloom just waiting for you to stroll down the aisles\, enjoy the flora\, sip wonderful wine and indulge on nibbles. Join us on Thursday\, April 29 from 5-7 p.m. at Shady Hill Gardens in Elburn as we welcome in Spring and the new growing season!\n\nShady Hill Gardens is located at 42W075 Route 38\, Elburn\n
LOCATION:Gibby's Wine Den
UID:e.1902.1145
SEQUENCE:3
DTSTAMP:20260420T144136Z
URL:https://business.bataviachamber.org/events/details/gibby-s-wine-den-wine-tasting-at-shady-hill-gardens-04-29-2010-1145
END:VEVENT

END:VCALENDAR
