BEGIN:VCALENDAR
VERSION:2.0
PRODID:-//ChamberMaster//Event Calendar 2.0//EN
METHOD:PUBLISH
X-PUBLISHED-TTL:P3D
REFRESH-INTERVAL:P3D
CALSCALE:GREGORIAN
BEGIN:VEVENT
DTSTART:20110405T050000Z
DTEND:20110405T050000Z
X-MICROSOFT-CDO-ALLDAYEVENT:FALSE
SUMMARY:Gibby's Wine Den ~ Wine Tasting 101 with Batavia and Geneva
DESCRIPTION:This is the ultimate workout for your palate. Gibby's partners with Geneva Park District and BataviaPark District for this class where you will learn to taste like a pro. Learn to use your senses tocompare and identify a variety of wines. Wines will be samples at each session.\nFor more information or to register\, visit one of these Park District websites or call 630-879-5235.
X-ALT-DESC;FMTTYPE=text/html:This is the ultimate workout for your palate. Gibby's partners with Geneva Park District and BataviaPark District for this class where you will learn to taste like a pro. Learn to use your senses tocompare and identify a variety of wines. Wines will be samples at each session.\nFor more information or to register\, visit one of these Park District websites or call 630-879-5235.
LOCATION:Gibby's Wine Den
UID:e.1902.192
SEQUENCE:3
DTSTAMP:20260423T135355Z
URL:https://business.bataviachamber.org/events/details/gibby-s-wine-den-wine-tasting-101-with-batavia-and-geneva-04-05-2011-192
END:VEVENT

END:VCALENDAR
