BEGIN:VCALENDAR
VERSION:2.0
PRODID:-//ChamberMaster//Event Calendar 2.0//EN
METHOD:PUBLISH
X-PUBLISHED-TTL:P3D
REFRESH-INTERVAL:P3D
CALSCALE:GREGORIAN
BEGIN:VEVENT
DTSTART:20110131T060000Z
DTEND:20110131T060000Z
X-MICROSOFT-CDO-ALLDAYEVENT:FALSE
SUMMARY:Gibby's Wine Den ~ Wine Tasting 101 with Batavia and Geneva
DESCRIPTION:Learn the basics of wine tasting and production with this three day study of different countries anda variety of wines. For more information and to register for this class\, contact Geneva Park District (630-232-4542) or Batavia Park District (630-879-5235).
X-ALT-DESC;FMTTYPE=text/html:Learn the basics of wine tasting and production with this three day study of different countries anda variety of wines. For more information and to register for this class\, contact Geneva Park District (630-232-4542) or Batavia Park District (630-879-5235).
LOCATION:Gibby's Wine Den
UID:e.1902.119
SEQUENCE:3
DTSTAMP:20260423T183850Z
URL:https://business.bataviachamber.org/events/details/gibby-s-wine-den-wine-tasting-101-with-batavia-and-geneva-01-31-2011-119
END:VEVENT

END:VCALENDAR
