BEGIN:VCALENDAR
VERSION:2.0
PRODID:-//ChamberMaster//Event Calendar 2.0//EN
METHOD:PUBLISH
X-PUBLISHED-TTL:P3D
REFRESH-INTERVAL:P3D
CALSCALE:GREGORIAN
BEGIN:VEVENT
DTSTART:20110202T060000Z
DTEND:20110202T060000Z
X-MICROSOFT-CDO-ALLDAYEVENT:FALSE
SUMMARY:Gibby's Wine Den ~ Wine Bar Wednesday
DESCRIPTION:Stop in every Wednesday for a glass of wine at our Wine Bar and enjoy a selection from our Tidbits menu. Receive double credit for all Bar purchases toward CorkHead Bucks.
X-ALT-DESC;FMTTYPE=text/html:Stop in every Wednesday for a glass of wine at our Wine Bar and enjoy a selection from our Tidbits menu. Receive double credit for all Bar purchases toward CorkHead Bucks.
LOCATION:Gibby's Wine Den
UID:e.1902.125
SEQUENCE:3
DTSTAMP:20260419T212259Z
URL:https://business.bataviachamber.org/events/details/gibby-s-wine-den-wine-bar-wednesday-02-02-2011-125
END:VEVENT

END:VCALENDAR
