BEGIN:VCALENDAR
VERSION:2.0
PRODID:-//ChamberMaster//Event Calendar 2.0//EN
METHOD:PUBLISH
X-PUBLISHED-TTL:P3D
REFRESH-INTERVAL:P3D
CALSCALE:GREGORIAN
BEGIN:VEVENT
DTSTART:20100922T050000Z
DTEND:20100922T050000Z
X-MICROSOFT-CDO-ALLDAYEVENT:FALSE
SUMMARY:Gibby's Wine Den ~ Wine Appreciation Class with Geneva Park
DESCRIPTION:Wine Appreciation Part I: Learn the basics of wine tasting and production. Each night will focus onwine from different countries. Participants will be able to sample a variety of wines. September 22\,September 29\, October 6\, October 13 at 7pm. Reservations are required and can be made through the Geneva Park District 630.232.4542 or www.genevaparks.org Classes will be held at Gibby’s Wine Den.
X-ALT-DESC;FMTTYPE=text/html:Wine Appreciation Part I: Learn the basics of wine tasting and production. Each night will focus onwine from different countries. Participants will be able to sample a variety of wines. September 22\,September 29\, October 6\, October 13 at 7pm. Reservations are required and can be made through the Geneva Park District 630.232.4542 or www.genevaparks.org Classes will be held at Gibby’s Wine Den.\n
LOCATION:Gibby's Wine Den
UID:e.1902.44
SEQUENCE:3
DTSTAMP:20260420T061020Z
URL:https://business.bataviachamber.org/events/details/gibby-s-wine-den-wine-appreciation-class-with-geneva-park-09-22-2010-44
END:VEVENT

END:VCALENDAR
