BEGIN:VCALENDAR
VERSION:2.0
PRODID:-//ChamberMaster//Event Calendar 2.0//EN
METHOD:PUBLISH
X-PUBLISHED-TTL:P3D
REFRESH-INTERVAL:P3D
CALSCALE:GREGORIAN
BEGIN:VEVENT
DTSTART:20090917T050000Z
DTEND:20090917T050000Z
X-MICROSOFT-CDO-ALLDAYEVENT:FALSE
SUMMARY:Gibby's Wine Den ~ Wine and Wellness at K.Hollis Jewelers
DESCRIPTION:Join Gibby's at K.Hollis Jewelers for a wonderful event featuring Wine and Wellness.  A short presentation on the health benefits of wine and juice will be giving on the half hour.  Browse through thebaubles while sipping on the wonderful liquids with that enhance your health!
X-ALT-DESC;FMTTYPE=text/html:Join Gibby's at K.Hollis Jewelers for a wonderful event featuring Wine and Wellness.  A short presentation on the health benefits of wine and juice will be giving on the half hour.  Browse through thebaubles while sipping on the wonderful liquids with that enhance your health! \n
LOCATION:K.Hollis Jewelers
UID:e.1902.1004
SEQUENCE:3
DTSTAMP:20260421T050107Z
URL:https://business.bataviachamber.org/events/details/gibby-s-wine-den-wine-and-wellness-at-k-hollis-jewelers-09-17-2009-1004
END:VEVENT

END:VCALENDAR
