BEGIN:VCALENDAR
VERSION:2.0
PRODID:-//ChamberMaster//Event Calendar 2.0//EN
METHOD:PUBLISH
X-PUBLISHED-TTL:P3D
REFRESH-INTERVAL:P3D
CALSCALE:GREGORIAN
BEGIN:VEVENT
DTSTART:20091108T060000Z
DTEND:20091108T060000Z
X-MICROSOFT-CDO-ALLDAYEVENT:FALSE
SUMMARY:GIbby's Wine Den ~ Wine and Cheese Tasting
DESCRIPTION:Cheese and wine have a strong relationship\, especially at Gibby's\, where only handcrafted cheese isrepresented.  Spend a Sunday afternoon exploring the various cheese and wine pairings and learn "what goes with what".  Some may surprise you\, others will merely entertain your taste buds!\n\nThis is a premium event and reservations are requried.  $35 / person.
X-ALT-DESC;FMTTYPE=text/html:Cheese and wine have a strong relationship\, especially at Gibby's\, where only handcrafted cheese isrepresented.  Spend a Sunday afternoon exploring the various cheese and wine pairings and learn "what goes with what".  Some may surprise you\, others will merely entertain your taste buds!\n\nThis is a premium event and reservations are requried.  $35 / person.\n
LOCATION:Gibby's Wine Den
UID:e.1902.1029
SEQUENCE:3
DTSTAMP:20260420T231919Z
URL:https://business.bataviachamber.org/events/details/gibby-s-wine-den-wine-and-cheese-tasting-11-08-2009-1029
END:VEVENT

END:VCALENDAR
