BEGIN:VCALENDAR
VERSION:2.0
PRODID:-//ChamberMaster//Event Calendar 2.0//EN
METHOD:PUBLISH
X-PUBLISHED-TTL:P3D
REFRESH-INTERVAL:P3D
CALSCALE:GREGORIAN
BEGIN:VEVENT
DTSTART:20090921T050000Z
DTEND:20090921T050000Z
X-MICROSOFT-CDO-ALLDAYEVENT:FALSE
SUMMARY:Gibby's Wine Den ~ Waubonsee Intro to Wine Tasting Part II
DESCRIPTION:Join us tonight for part II of this excellent class on wine basics.  Train your taste buds\, hone your sniffing skills and use your eyes to tell the age of a wine.  Impress your friends by learning totaste like a pro!  After tonight's class\, you will have a deeper understanding of terrior\, varietalsand the balance of a great wine. \n\nContact Waubonsee Community College office to register for this class at 630-466-7900.  The class will be held at Gibby's Wine Den.
X-ALT-DESC;FMTTYPE=text/html:Join us tonight for part II of this excellent class on wine basics.  Train your taste buds\, hone your sniffing skills and use your eyes to tell the age of a wine.  Impress your friends by learning totaste like a pro!  After tonight's class\, you will have a deeper understanding of terrior\, varietalsand the balance of a great wine. \n\nContact Waubonsee Community College office to register for this class at 630-466-7900.  The class will be held at Gibby's Wine Den.\n \n\n
LOCATION:Gibby
UID:e.1902.1006
SEQUENCE:3
DTSTAMP:20260421T031700Z
URL:https://business.bataviachamber.org/events/details/gibby-s-wine-den-waubonsee-intro-to-wine-tasting-part-ii-09-21-2009-1006
END:VEVENT

END:VCALENDAR
