BEGIN:VCALENDAR
VERSION:2.0
PRODID:-//ChamberMaster//Event Calendar 2.0//EN
METHOD:PUBLISH
X-PUBLISHED-TTL:P3D
REFRESH-INTERVAL:P3D
CALSCALE:GREGORIAN
BEGIN:VEVENT
DTSTART:20090914T050000Z
DTEND:20090914T050000Z
X-MICROSOFT-CDO-ALLDAYEVENT:FALSE
SUMMARY:Gibby's Wine Den ~ Waubonsee Intro to Wine Tasting\, Part I
DESCRIPTION:This is the ultimate workout for your palate!  Train your taste buds to pick out a variety of flavors\, hone your sniffing skills and use your eyes to tell the age of the wine.  Impress your friends bylearning to taste like a pro.  You will then move beyond the basics to a deeper understanding of terrior\, varietals and the balance of a great wine in Part II of this class\, which will be on September 21.\n\nReservations required.  Contact Waubonsee Community College Education office to register.
X-ALT-DESC;FMTTYPE=text/html:This is the ultimate workout for your palate!  Train your taste buds to pick out a variety of flavors\, hone your sniffing skills and use your eyes to tell the age of the wine.  Impress your friends bylearning to taste like a pro.  You will then move beyond the basics to a deeper understanding of terrior\, varietals and the balance of a great wine in Part II of this class\, which will be on September 21.\n\nReservations required.  Contact Waubonsee Community College Education office to register.\n
LOCATION:Gibby's Wine Den
UID:e.1902.1003
SEQUENCE:3
DTSTAMP:20260421T044750Z
URL:https://business.bataviachamber.org/events/details/gibby-s-wine-den-waubonsee-intro-to-wine-tasting-part-i-09-14-2009-1003
END:VEVENT

END:VCALENDAR
