BEGIN:VCALENDAR
VERSION:2.0
PRODID:-//ChamberMaster//Event Calendar 2.0//EN
METHOD:PUBLISH
X-PUBLISHED-TTL:P3D
REFRESH-INTERVAL:P3D
CALSCALE:GREGORIAN
BEGIN:VEVENT
DTSTART:20091004T050000Z
DTEND:20091004T050000Z
X-MICROSOFT-CDO-ALLDAYEVENT:FALSE
SUMMARY:Gibby's Wine Den ~ Waubonsee Food and Wine Pairing\, Part II
DESCRIPTION:Building upon the basic principlas learned in Part I\, this course allows the opportunity to get specific on matching certain foods and menus to the right wine or range of wines.  Learn different winesto match with the same dish or with a different sauce.  Focus will be on certain dishes and particular sauces\, as well as selecting the right wines for each course of a multi-course meal.   Participants will emerge confident in their ability to tackle most menu situations.  This is a highly interactive class.  Participants will sample 5 wines in each session. \n\nThis class will be held at Gibby's Wine Den\, reservations are required.  Please contact Waubonsee Community College Community Education Office at 630-466-7900.
X-ALT-DESC;FMTTYPE=text/html:Building upon the basic principlas learned in Part I\, this course allows the opportunity to get specific on matching certain foods and menus to the right wine or range of wines.  Learn different winesto match with the same dish or with a different sauce.  Focus will be on certain dishes and particular sauces\, as well as selecting the right wines for each course of a multi-course meal.   Participants will emerge confident in their ability to tackle most menu situations.  This is a highly interactive class.  Participants will sample 5 wines in each session. \n\nThis class will be held at Gibby's Wine Den\, reservations are required.  Please contact Waubonsee Community College Community Education Office at 630-466-7900.\n \n\n
LOCATION:Gibby's Wine Den
UID:e.1902.1018
SEQUENCE:3
DTSTAMP:20260421T011505Z
URL:https://business.bataviachamber.org/events/details/gibby-s-wine-den-waubonsee-food-and-wine-pairing-part-ii-10-04-2009-1018
END:VEVENT

END:VCALENDAR
