BEGIN:VCALENDAR
VERSION:2.0
PRODID:-//ChamberMaster//Event Calendar 2.0//EN
METHOD:PUBLISH
X-PUBLISHED-TTL:P3D
REFRESH-INTERVAL:P3D
CALSCALE:GREGORIAN
BEGIN:VEVENT
DTSTART:20090927T050000Z
DTEND:20090927T050000Z
X-MICROSOFT-CDO-ALLDAYEVENT:FALSE
SUMMARY:Gibby's Wine Den ~ Waubonsee Food and Wine Pairing\, Part I
DESCRIPTION:You'll start with the basics in this interactive class.  Which wine "cools" down spicy foods?  And which wine should you select with your salty foods?  This is a fun way to use the senses and to experience the basic tastes of sweet\, sour\, salt and bitter and the interrelationships with wine.  All class fees include a $5 coupon good for purchases made that day.  Participants will sample 5 wines ateach of the two classes. Part II of this course will be held on October 4\, from 4-7 pm.\n\nReservations are reuired.  Contact Waubonsee Community College Community Education office at 630-466-7900 toregister.
X-ALT-DESC;FMTTYPE=text/html:You'll start with the basics in this interactive class.  Which wine "cools" down spicy foods?  And which wine should you select with your salty foods?  This is a fun way to use the senses and to experience the basic tastes of sweet\, sour\, salt and bitter and the interrelationships with wine.  All class fees include a $5 coupon good for purchases made that day.  Participants will sample 5 wines ateach of the two classes. Part II of this course will be held on October 4\, from 4-7 pm.\n\nReservations are reuired.  Contact Waubonsee Community College Community Education office at 630-466-7900 toregister.\n \n\n
LOCATION:Gibby's Wine Den
UID:e.1902.1009
SEQUENCE:3
DTSTAMP:20260421T031828Z
URL:https://business.bataviachamber.org/events/details/gibby-s-wine-den-waubonsee-food-and-wine-pairing-part-i-09-27-2009-1009
END:VEVENT

END:VCALENDAR
