BEGIN:VCALENDAR
VERSION:2.0
PRODID:-//ChamberMaster//Event Calendar 2.0//EN
METHOD:PUBLISH
X-PUBLISHED-TTL:P3D
REFRESH-INTERVAL:P3D
CALSCALE:GREGORIAN
BEGIN:VEVENT
DTSTART:20090318T050000Z
DTEND:20090318T050000Z
X-MICROSOFT-CDO-ALLDAYEVENT:FALSE
SUMMARY:Gibby's Wine Den ~ Vintage Event\, Fess Parker Winery
DESCRIPTION:Join us tonight as Manou Chahmirzadi will be tempting us with a tour of the Fess Parker Winery portfolio.  Fess Parker\, who played Daniel Boone and Davy Crockett\, opened a winery in 1989 after recognizing the potential of the Santa Barbara area for producing superior wines.  Hear the story\, taste the wines and experience the trademark hospitality of this family owned and operated winery.\nComplimentary for Vintage members\,\n$10 member guests\, $20 all other attendees.
X-ALT-DESC;FMTTYPE=text/html:Join us tonight as Manou Chahmirzadi will be tempting us with a tour of the Fess Parker Winery portfolio.  Fess Parker\, who played Daniel Boone and Davy Crockett\, opened a winery in 1989 after recognizing the potential of the Santa Barbara area for producing superior wines.  Hear the story\, taste the wines and experience the trademark hospitality of this family owned and operated winery.\nComplimentary for Vintage members\,\n$10 member guests\, $20 all other attendees.
LOCATION:Gibby's Wine Den
UID:e.1902.879
SEQUENCE:3
DTSTAMP:20260421T144235Z
URL:https://business.bataviachamber.org/events/details/gibby-s-wine-den-vintage-event-fess-parker-winery-03-18-2009-879
END:VEVENT

END:VCALENDAR
