BEGIN:VCALENDAR
VERSION:2.0
PRODID:-//ChamberMaster//Event Calendar 2.0//EN
METHOD:PUBLISH
X-PUBLISHED-TTL:P3D
REFRESH-INTERVAL:P3D
CALSCALE:GREGORIAN
BEGIN:VEVENT
DTSTART:20090723T050000Z
DTEND:20090726T050000Z
X-MICROSOFT-CDO-ALLDAYEVENT:FALSE
SUMMARY:Gibby's Wine Den ~ Vintage Event\, Featuring Chef Jason Stof
DESCRIPTION:Jason Stoffels\, of Enticing Cuisine\, 12 S. Water Street\, Batavia\, IL\, 630.761.0399\, will continue the culinary education with his tricks of the trade in the kitchen on Thursday July 23 at 7 pm. With summer entertaining in full swing\, join us tonight to learn some new and delicious ideas!\n\nReservations are required. And remember\, Vintage events are complimentary for members and your guests are welcome for a $10 fee. What a great way to introduce your friends to Gibby's!
X-ALT-DESC;FMTTYPE=text/html:Jason Stoffels\, of Enticing Cuisine\, 12 S. Water Street\, Batavia\, IL\, 630.761.0399\, will continue the culinary education with his tricks of the trade in the kitchen on Thursday July 23 at 7 pm. With summer entertaining in full swing\, join us tonight to learn some new and delicious ideas!\n\nReservations are required. And remember\, Vintage events are complimentary for members and your guests are welcome for a $10 fee. What a great way to introduce your friends to Gibby's! \n
LOCATION:Gibby's Wine Den
UID:e.1902.966
SEQUENCE:3
DTSTAMP:20260421T071142Z
URL:https://business.bataviachamber.org/events/details/gibby-s-wine-den-vintage-event-featuring-chef-jason-stof-07-23-2009-966
END:VEVENT

END:VCALENDAR
