BEGIN:VCALENDAR
VERSION:2.0
PRODID:-//ChamberMaster//Event Calendar 2.0//EN
METHOD:PUBLISH
X-PUBLISHED-TTL:P3D
REFRESH-INTERVAL:P3D
CALSCALE:GREGORIAN
BEGIN:VEVENT
DTSTART:20091112T060000Z
DTEND:20091112T060000Z
X-MICROSOFT-CDO-ALLDAYEVENT:FALSE
SUMMARY:Gibby's Wine Den ~ Van Duzer Vineyards Guest Bartender and
DESCRIPTION:Join Gibby's as we welcome Tanna Massar from Van Duzer Vineyards.  Tanna will lead us in a presentation of  the Van Duzer story and fine portfolio of wines.  Van Duzer Vineyards has generously offeredtwo incredible raffle prizes for the evening!  You won't want to miss this premium event!  Reservations are required\, $20 / person.
X-ALT-DESC;FMTTYPE=text/html:Join Gibby's as we welcome Tanna Massar from Van Duzer Vineyards.  Tanna will lead us in a presentation of  the Van Duzer story and fine portfolio of wines.  Van Duzer Vineyards has generously offeredtwo incredible raffle prizes for the evening!  You won't want to miss this premium event!  Reservations are required\, $20 / person.\n \n\n
LOCATION:Gibby's Wine Den
UID:e.1902.1030
SEQUENCE:3
DTSTAMP:20260420T232106Z
URL:https://business.bataviachamber.org/events/details/gibby-s-wine-den-van-duzer-vineyards-guest-bartender-and-11-12-2009-1030
END:VEVENT

END:VCALENDAR
