BEGIN:VCALENDAR
VERSION:2.0
PRODID:-//ChamberMaster//Event Calendar 2.0//EN
METHOD:PUBLISH
X-PUBLISHED-TTL:P3D
REFRESH-INTERVAL:P3D
CALSCALE:GREGORIAN
BEGIN:VEVENT
DTSTART:20100225T060000Z
DTEND:20100225T060000Z
X-MICROSOFT-CDO-ALLDAYEVENT:FALSE
SUMMARY:Gibby's Wine Den ~ Upper Northwest Corner
DESCRIPTION:Join Gibby’s Wine Den on Thursday February 25\, 2010 beginning at 7 pm for an exploration into the wine from the “Upper Northwest Corner”. Christophe Bakunas\, Proprietor of Local Wine Co\, as guest bartender will be sharing the stories from his  artisan winemakers of Washington and Oregon with small batch productions and intense flavor profiles. Four wines will be served:\nthe new release of Murphy’s Law Red\nMurphy’s Law White\nJigsaw Pinot Noir\nTilda Red Blend\nBottle signing will be available.\n\nMany stories will be told!\n\nTo make a reservation either call 630.208.6424 or email info@gibbys-wine.com\n\nReservations are required.\nThe cost is $20/person
X-ALT-DESC;FMTTYPE=text/html:Join Gibby’s Wine Den on Thursday February 25\, 2010 beginning at 7 pm for an exploration into the wine from the “Upper Northwest Corner”. Christophe Bakunas\, Proprietor of Local Wine Co\, as guest bartender will be sharing the stories from his  artisan winemakers of Washington and Oregon with small batch productions and intense flavor profiles. Four wines will be served:\nthe new release of Murphy’s Law Red\nMurphy’s Law White\nJigsaw Pinot Noir\nTilda Red Blend\nBottle signing will be available.\n\nMany stories will be told!\n\nTo make a reservation either call 630.208.6424 or email info@gibbys-wine.com\n\nReservations are required.\nThe cost is $20/person\n
LOCATION:Gibby's Wine Den
UID:e.1902.1119
SEQUENCE:3
DTSTAMP:20260420T175345Z
URL:https://business.bataviachamber.org/events/details/gibby-s-wine-den-upper-northwest-corner-02-25-2010-1119
END:VEVENT

END:VCALENDAR
