BEGIN:VCALENDAR
VERSION:2.0
PRODID:-//ChamberMaster//Event Calendar 2.0//EN
METHOD:PUBLISH
X-PUBLISHED-TTL:P3D
REFRESH-INTERVAL:P3D
CALSCALE:GREGORIAN
BEGIN:VEVENT
DTSTART:20101121T060000Z
DTEND:20101121T060000Z
X-MICROSOFT-CDO-ALLDAYEVENT:FALSE
SUMMARY:Gibby's Wine Den ~ UNWRAP the Holidays!
DESCRIPTION:Are you ready? Have you picked out your decorations? Or do you need a little help? Join us for our "UNWRAP the Holidays" event on November 21 from 1-5 pm!! We'll kick off the holidays with a food andwine tasting along with raffles\, live entertainment and lots of holiday decorating and gift giving tips. Learn to make a beautiful bow - choose from our ribbon or bring us yours! Update your wreaths\,garlands and home decor - we'll show you how! Plus\, double your Corkhead points all day! Participating businesses also include the East Room\, Shady Hill Gardens\, Montage Salon and Celebration Design of Gibby's Wine Den. Get great gift and decorating ideas. Let "the elves" of Celebration Design and Gibby's help!
X-ALT-DESC;FMTTYPE=text/html:Are you ready? Have you picked out your decorations? Or do you need a little help? Join us for our "UNWRAP the Holidays" event on November 21 from 1-5 pm!! We'll kick off the holidays with a food andwine tasting along with raffles\, live entertainment and lots of holiday decorating and gift giving tips. Learn to make a beautiful bow - choose from our ribbon or bring us yours! Update your wreaths\,garlands and home decor - we'll show you how! Plus\, double your Corkhead points all day! Participating businesses also include the East Room\, Shady Hill Gardens\, Montage Salon and Celebration Design of Gibby's Wine Den. Get great gift and decorating ideas. Let "the elves" of Celebration Design and Gibby's help! \n
LOCATION:Gibby's Wine Den
UID:e.1902.94
SEQUENCE:3
DTSTAMP:20260420T035411Z
URL:https://business.bataviachamber.org/events/details/gibby-s-wine-den-unwrap-the-holidays-11-21-2010-94
END:VEVENT

END:VCALENDAR
