BEGIN:VCALENDAR
VERSION:2.0
PRODID:-//ChamberMaster//Event Calendar 2.0//EN
METHOD:PUBLISH
X-PUBLISHED-TTL:P3D
REFRESH-INTERVAL:P3D
CALSCALE:GREGORIAN
BEGIN:VEVENT
DTSTART:20111120T060000Z
DTEND:20111120T060000Z
X-MICROSOFT-CDO-ALLDAYEVENT:FALSE
SUMMARY:Gibby's Wine Den ~ UNWRAP the Holidays!
DESCRIPTION:Are you ready for the holidays? Gibby’s Wine Den will host our Annual Holiday Open House on Sunday November 20 from 1 – 5 pm. The line up of activities is exciting!\n•	Wine Tasting paired to a traditional Thanksgiving meal \n•	 Entertainment by James Schlicher\n•	Hair and make up demonstrations by Montage Salon\n•	Delectable frozen treats sampled by Kimmer’s Ice Cream\n•	Knife sharpening by Greg’sShoe Repair\n•	Fashion Show from Fashion on Third\n•	Sampling of Greek olive oil by Proastio OliveOil \n•	Bow and wreath decoration demonstrations by Celebration Design of Gibby’s Wine Den\n•	Holiday accessorizing from Baubles\n•	Gourmet Food sampling by Gibby’s Wine Den\n•	A wide assortment of raffle prizes\n•	Receive free gift with a purchase at Gibby’s Wine Den\n•	Remember all purchases are added to your Corkhead balance for   you to enjoy the rewards \n \nThe Holiday’s Start at Gibby’s Wine Den!
X-ALT-DESC;FMTTYPE=text/html:Are you ready for the holidays? Gibby’s Wine Den will host our Annual Holiday Open House on Sunday November 20 from 1 – 5 pm. The line up of activities is exciting!\n•	Wine Tasting paired to a traditional Thanksgiving meal \n•	 Entertainment by James Schlicher\n•	Hair and make up demonstrations by Montage Salon\n•	Delectable frozen treats sampled by Kimmer’s Ice Cream\n•	Knife sharpening by Greg’sShoe Repair\n•	Fashion Show from Fashion on Third\n•	Sampling of Greek olive oil by Proastio OliveOil \n•	Bow and wreath decoration demonstrations by Celebration Design of Gibby’s Wine Den\n•	Holiday accessorizing from Baubles\n•	Gourmet Food sampling by Gibby’s Wine Den\n•	A wide assortment of raffle prizes\n•	Receive free gift with a purchase at Gibby’s Wine Den\n•	Remember all purchases are added to your Corkhead balance for   you to enjoy the rewards \n \nThe Holiday’s Start at Gibby’s Wine Den!\n
LOCATION:Gibby's Wine Den
UID:e.1902.436
SEQUENCE:3
DTSTAMP:20260423T020712Z
URL:https://business.bataviachamber.org/events/details/gibby-s-wine-den-unwrap-the-holidays-11-20-2011-436
END:VEVENT

END:VCALENDAR
