BEGIN:VCALENDAR
VERSION:2.0
PRODID:-//ChamberMaster//Event Calendar 2.0//EN
METHOD:PUBLISH
X-PUBLISHED-TTL:P3D
REFRESH-INTERVAL:P3D
CALSCALE:GREGORIAN
BEGIN:VEVENT
DTSTART:20100430T050000Z
DTEND:20100430T050000Z
X-MICROSOFT-CDO-ALLDAYEVENT:FALSE
SUMMARY:Gibby's Wine Den ~ UNCORKED Spring Wine Tasting Series\, Fli
DESCRIPTION:Looking for a new wine?  Looking for great gift ideas? Entertaining this Spring or Summer? Need to restock your wine rack? Attend one or all of our three Flights in Gibby’s Spring Wine Tasting Series.Each Flight will present the opportunity to taste over 25 wines with the chance to interact one onone with the distributors and enjoy the search for the wines you love. Admission to each flight is $10. Significant incentive discount purchasing information will be available. See tasting menu at theFlights for details Please let us know if you are interested in tasting wines from a specific distributor or portfolio.\nFlight II Friday\, April 30 5-8\nFlight III Friday\, May 14 5-8\nWe look forward to offering an extensive variety of wines from various appellations and a wide price range. Make sure you submit a raffle ticket\, the drawing will be at the conclusion of Flight III.You have the opportunity to submit at each Flight. Winner need not be present
X-ALT-DESC;FMTTYPE=text/html:Looking for a new wine?  Looking for great gift ideas? Entertaining this Spring or Summer? Need to restock your wine rack? Attend one or all of our three Flights in Gibby’s Spring Wine Tasting Series.Each Flight will present the opportunity to taste over 25 wines with the chance to interact one onone with the distributors and enjoy the search for the wines you love. Admission to each flight is $10. Significant incentive discount purchasing information will be available. See tasting menu at theFlights for details Please let us know if you are interested in tasting wines from a specific distributor or portfolio.\nFlight II Friday\, April 30 5-8\nFlight III Friday\, May 14 5-8\nWe look forward to offering an extensive variety of wines from various appellations and a wide price range. Make sure you submit a raffle ticket\, the drawing will be at the conclusion of Flight III.You have the opportunity to submit at each Flight. Winner need not be present
LOCATION:Gibby's Wine Den
UID:e.1902.1146
SEQUENCE:3
DTSTAMP:20260424T110204Z
URL:https://business.bataviachamber.org/events/details/gibby-s-wine-den-uncorked-spring-wine-tasting-series-fli-04-30-2010-1146
END:VEVENT

END:VCALENDAR
