BEGIN:VCALENDAR
VERSION:2.0
PRODID:-//ChamberMaster//Event Calendar 2.0//EN
METHOD:PUBLISH
X-PUBLISHED-TTL:P3D
REFRESH-INTERVAL:P3D
CALSCALE:GREGORIAN
BEGIN:VEVENT
DTSTART:20100409T050000Z
DTEND:20100409T050000Z
X-MICROSOFT-CDO-ALLDAYEVENT:FALSE
SUMMARY:Gibby's Wine Den ~ UNCORKED Spring Wine Tasting Series\, Fli
DESCRIPTION:Looking for a new wine?  Looking for great gift ideas? Entertaining this Spring or Summer? Need to restock your wine rack?\nAttend one or all of our three Flights in Gibby’s Spring Wine Tasting Series. Each Flight will present the opportunity to taste over 25 wines with the chance to\ninteract one on one with the distributors and enjoy the search for the wines you love.\nAdmission to each flight is $10. Significant incentive discount purchasing information will be available. See tasting menu atthe Flights for details. Please let us know\nif you are interested in tasting wines from a specificdistributor or portfolio.\nFlight I    Friday\, April 9       5-8\nFlight II   Friday\, April 30    5-8\nFlight III   Friday\, May 14    5-8\nWe look forward to offering an extensive variety of wines from various appellations and a wide price range. Make sure you submit a raffle ticket\, the drawing will be at the conclusion of Flight III. You have the opportunity to submit at each Flight. Winner neednot be present.
X-ALT-DESC;FMTTYPE=text/html:Looking for a new wine?  Looking for great gift ideas? Entertaining this Spring or Summer? Need to restock your wine rack?\nAttend one or all of our three Flights in Gibby’s Spring Wine Tasting Series. Each Flight will present the opportunity to taste over 25 wines with the chance to\ninteract one on one with the distributors and enjoy the search for the wines you love.\nAdmission to each flight is $10. Significant incentive discount purchasing information will be available. See tasting menu atthe Flights for details. Please let us know\nif you are interested in tasting wines from a specificdistributor or portfolio.\nFlight I    Friday\, April 9       5-8\nFlight II   Friday\, April 30    5-8\nFlight III   Friday\, May 14    5-8\nWe look forward to offering an extensive variety of wines from various appellations and a wide price range. Make sure you submit a raffle ticket\, the drawing will be at the conclusion of Flight III. You have the opportunity to submit at each Flight. Winner neednot be present.\n
LOCATION:Gibby's Wine Den
UID:e.1902.1139
SEQUENCE:3
DTSTAMP:20260420T144119Z
URL:https://business.bataviachamber.org/events/details/gibby-s-wine-den-uncorked-spring-wine-tasting-series-fli-04-09-2010-1139
END:VEVENT

END:VCALENDAR
