BEGIN:VCALENDAR
VERSION:2.0
PRODID:-//ChamberMaster//Event Calendar 2.0//EN
METHOD:PUBLISH
X-PUBLISHED-TTL:P3D
REFRESH-INTERVAL:P3D
CALSCALE:GREGORIAN
BEGIN:VEVENT
DTSTART:20091106T060000Z
DTEND:20091106T060000Z
X-MICROSOFT-CDO-ALLDAYEVENT:FALSE
SUMMARY:Gibby's Wine Den ~Uncorked Fall Wine Tasting Series\, Flight
DESCRIPTION:You won't want to miss Gibby's Fall Wine Tasting Series. Each Flight will present the opportunity totaste at least 24 wines and the chance to interact one on one with the distributors and enjoy the search for the wines you love. Attend one or all three Flights - a great variety of wines for you tosample. \n\nAdmission to each Flight is $10 and significant incentive discount purchasing information will be available. Make sure to submit a raffle ticket at each Flight for attending. The drawing will be at the conclusion of Flight III\, winner need not be present to win. No reservations are required. Join us for the fun of trying new wines and discovering some new favorites!\n\nFlight III: Friday\, November 20\, 5-8pm
X-ALT-DESC;FMTTYPE=text/html:You won't want to miss Gibby's Fall Wine Tasting Series. Each Flight will present the opportunity totaste at least 24 wines and the chance to interact one on one with the distributors and enjoy the search for the wines you love. Attend one or all three Flights - a great variety of wines for you tosample. \n\nAdmission to each Flight is $10 and significant incentive discount purchasing information will be available. Make sure to submit a raffle ticket at each Flight for attending. The drawing will be at the conclusion of Flight III\, winner need not be present to win. No reservations are required. Join us for the fun of trying new wines and discovering some new favorites!\n\nFlight III: Friday\, November 20\, 5-8pm\n
LOCATION:Gibby's Wine Den
UID:e.1902.1028
SEQUENCE:3
DTSTAMP:20260420T231847Z
URL:https://business.bataviachamber.org/events/details/gibby-s-wine-den-uncorked-fall-wine-tasting-series-flight-11-06-2009-1028
END:VEVENT

END:VCALENDAR
